BEGIN:VCALENDAR
VERSION:2.0
PRODID:-//ChamberMaster//Event Calendar 2.0//EN
METHOD:PUBLISH
X-PUBLISHED-TTL:P3D
REFRESH-INTERVAL:P3D
CALSCALE:GREGORIAN
BEGIN:VEVENT
DTSTART:20090929T180000Z
DTEND:20090929T200000Z
X-MICROSOFT-CDO-ALLDAYEVENT:FALSE
SUMMARY:SUBSTANCE ABUSE TASK FORCE
DESCRIPTION:Substance Abuse Task Force\nInterested stakeholders will get together to discuss hwo to better address the growing problem of substance abuse in Barrow County.
X-ALT-DESC;FMTTYPE=text/html:Substance Abuse Task Force\nInterested stakeholders will get together to discuss hwo to better address the growing problem of substance abuse in Barrow County.
LOCATION:Barrow County DFCS Conference Room\, back buidling\, 16 Lee St\, Winder
UID:e.363.3051
SEQUENCE:3
DTSTAMP:20260425T172018Z
URL:https://barrowcm.365dtm.com/events/details/substance-abuse-task-force-09-29-2009-3051
END:VEVENT

END:VCALENDAR
