BEGIN:VCALENDAR
VERSION:2.0
PRODID:-//ChamberMaster//Event Calendar 2.0//EN
METHOD:PUBLISH
X-PUBLISHED-TTL:P3D
REFRESH-INTERVAL:P3D
CALSCALE:GREGORIAN
BEGIN:VEVENT
DTSTART:20110226T150000Z
DTEND:20110226T170000Z
X-MICROSOFT-CDO-ALLDAYEVENT:FALSE
SUMMARY:Supreme Coupon Event
DESCRIPTION:Learn the art of thriftiness and saving from Atlanta's very own "Frugal Ferret" Start saving hundreds of dollars a month immediately!
X-ALT-DESC;FMTTYPE=text/html:Learn the art of thriftiness and saving from Atlanta's very own "Frugal Ferret" Start saving hundreds of dollars a month immediately!
LOCATION:The Westbrook Centre
UID:e.363.3683
SEQUENCE:3
DTSTAMP:20260424T152108Z
URL:https://barrowcm.365dtm.com/events/details/supreme-coupon-event-02-26-2011-3683
END:VEVENT

END:VCALENDAR
