BEGIN:VCALENDAR
VERSION:2.0
PRODID:-//ChamberMaster//Event Calendar 2.0//EN
METHOD:PUBLISH
X-PUBLISHED-TTL:P3D
REFRESH-INTERVAL:P3D
CALSCALE:GREGORIAN
BEGIN:VEVENT
DTSTART:20091001T220000Z
DTEND:20091002T010000Z
X-MICROSOFT-CDO-ALLDAYEVENT:FALSE
SUMMARY:Tailgate Barrow
DESCRIPTION:Tailgate Barrow is held the night before the big game between Winder Barrow and Appalachee. The event is held to spread team spirit throughout the county. Fan fare activities will offered be such as: Moon Walks\, Dunking booths\, athhletic skills in football\, baseball and passing challenges. A fee of $5 per person will get you into Fan Fare.  Booster Clubs will be selling food\, holding drawings and selling spirit wear.
X-ALT-DESC;FMTTYPE=text/html:<div>Tailgate Barrow is held the night before the big game between Winder Barrow and Appalachee. The event is held to spread team spirit throughout the county.</div><div>&nbsp\;</div><div>Fan fare activities will offered be such as: Moon Walks\, Dunking booths\, athhletic skills in football\, baseball and passing challenges. A fee of&nbsp\;$5 per person will get you into Fan Fare. &nbsp\;Booster Clubs will be selling food\, holding drawings and selling spirit wear.</div>
LOCATION:Barrow County Professional Development Center179 West Athens StreetWinder\, 30680
UID:e.363.3037
SEQUENCE:3
DTSTAMP:20260425T154040Z
URL:https://barrowcm.365dtm.com/events/details/tailgate-barrow-10-01-2009-3037
END:VEVENT

END:VCALENDAR
