BEGIN:VCALENDAR
VERSION:2.0
PRODID:-//ChamberMaster//Event Calendar 2.0//EN
METHOD:PUBLISH
X-PUBLISHED-TTL:P3D
REFRESH-INTERVAL:P3D
CALSCALE:GREGORIAN
BEGIN:VEVENT
DTSTART:20101028T220000Z
DTEND:20101029T010000Z
X-MICROSOFT-CDO-ALLDAYEVENT:FALSE
SUMMARY:Tailgate Barrow
DESCRIPTION:Tailgate Barrow
X-ALT-DESC;FMTTYPE=text/html:Tailgate Barrow
LOCATION:Barrow County Board of Education 179 W. Athens Street\, Winder
UID:e.363.3593
SEQUENCE:3
DTSTAMP:20260424T211204Z
URL:https://barrowcm.365dtm.com/events/details/tailgate-barrow-10-28-2010-3593
END:VEVENT

END:VCALENDAR
