BEGIN:VCALENDAR
VERSION:2.0
PRODID:-//ChamberMaster//Event Calendar 2.0//EN
METHOD:PUBLISH
X-PUBLISHED-TTL:P3D
REFRESH-INTERVAL:P3D
CALSCALE:GREGORIAN
BEGIN:VEVENT
DTSTART:20090606T150000Z
DTEND:20090606T190000Z
X-MICROSOFT-CDO-ALLDAYEVENT:FALSE
SUMMARY:Taste of Winder
DESCRIPTION:The Winder Woman's Club is hosting the Taste of Winder a sampling event with the local restaurants of the community in efforts to raise money for the scholarships given to the high schools and Adult Education.  The Davidson Masonic Lodge is sponsoring the GA CHIPS a child protection service for the local community.   Parents can walk away with all the necessary information in the case of an emergency in protecting their children.
X-ALT-DESC;FMTTYPE=text/html:The Winder Woman's Club is hosting the Taste of Winder a sampling event with the local restaurants of the community in efforts to raise money for the scholarships given to the high schools and Adult Education.  The Davidson Masonic Lodge is sponsoring the GA CHIPS a child protection service for the local community.   Parents can walk away with all the necessary information in the case of an emergency in protecting their children.
LOCATION:15 W\, Midland Avenue
UID:e.363.2714
SEQUENCE:3
DTSTAMP:20260425T214838Z
URL:https://barrowcm.365dtm.com/events/details/taste-of-winder-06-06-2009-2714
END:VEVENT

END:VCALENDAR
