BEGIN:VCALENDAR
VERSION:2.0
PRODID:-//ChamberMaster//Event Calendar 2.0//EN
METHOD:PUBLISH
X-PUBLISHED-TTL:P3D
REFRESH-INTERVAL:P3D
CALSCALE:GREGORIAN
BEGIN:VEVENT
DTSTART;VALUE=DATE:20141127
DTEND;VALUE=DATE:20141128
TRANSP:TRANSPARENT
X-MICROSOFT-CDO-ALLDAYEVENT:TRUE
SUMMARY:Thanksgiving Holiday
DESCRIPTION:Enjoy the day with your family
X-ALT-DESC;FMTTYPE=text/html:Enjoy the day with your family
LOCATION:
UID:e.363.5470
SEQUENCE:3
DTSTAMP:20260421T171517Z
URL:https://barrowcm.365dtm.com/events/details/thanksgiving-holiday-11-27-2014-5470
END:VEVENT

END:VCALENDAR
