BEGIN:VCALENDAR
VERSION:2.0
PRODID:-//ChamberMaster//Event Calendar 2.0//EN
METHOD:PUBLISH
X-PUBLISHED-TTL:P3D
REFRESH-INTERVAL:P3D
CALSCALE:GREGORIAN
BEGIN:VEVENT
DTSTART:20130602T190000Z
DTEND:20130602T230000Z
X-MICROSOFT-CDO-ALLDAYEVENT:FALSE
SUMMARY:The Georgia Club Foundation 7th Annual Front Porch Foot Race
DESCRIPTION:The Georgia Club Foundation is excited to announce the Seventh Annual Front Porch Race Foot Race scheduled to take place on Sunday\, June 2nd at 3:00 p.m.\n\n	 \n\n	Join us on the grounds of the beautiful Georgia Club for a short course Tot Trot\, a one-mile fun run/walk\, and a 5K race on a course featuring flat to rolling hills. All are welcome to participate   18 months to 99 years young!\n\n	 \n\n	This year's proceeds will benefit Extra Special People Inc.\, "where children with developmental disabilities don't just survive...they THRIVE!" You can read more about them at http://www.extraspecialpeople.com/.\n\n	 \n\n	WE HOPE TO SEE Y'ALL AT THE RACE!\n\n	 \n\n	Date: Sunday\, June 2\, 2013\n\n	 \n\n	Time: Registration opens at 2:00 p.m.\; races begin at 3:00 p.m.\n\n	 \n\n	Location: The Georgia Club 1050 Chancellors Dr. Statham\, GA 30666\n\n	 \n\n	Registration: \n\n	$20 before May 14\; $25 after\; includes Front Porch Foot Race tee shirt\n\n	$15 no tee shirt\n\n	Donations accepted for Tot Trot registration \n\n	To register\, visit http://www.active.com/running/statham-ga/7th-annual-front-porch-foot-race-5k-and-fun-run-2013 or call or email the Foundation at 770-725-4902 or TGCFoundation@thegeorgiaclub.com
X-ALT-DESC;FMTTYPE=text/html:<p class="MsoNormal">\n	<span style="font-size: 12pt\; line-height: 115%\; font-family: Georgia\, serif\; background-position: initial initial\; background-repeat: initial initial\;">The Georgia Club Foundation is excited to announce the Seventh Annual Front Porch Race Foot Race scheduled to take place on <b>Sunday\, June 2nd at 3:00 p.m</b>.</span></p>\n<p class="MsoNormal">\n	&nbsp\;</p>\n<p class="MsoNormal">\n	<span style="font-size: 12pt\; line-height: 115%\; font-family: Georgia\, serif\; background-position: initial initial\; background-repeat: initial initial\;">Join us on the grounds of the beautiful Georgia Club for a short course Tot Trot\, a one-mile fun run/walk\, and a 5K race on a course featuring flat to rolling hills. All are welcome to participate &ndash\; 18 </span><span style="font-size: 12pt\; line-height: 115%\; font-family: Georgia\, serif\;">months to 99 years young!</span></p>\n<p class="MsoNormal">\n	&nbsp\;</p>\n<p class="MsoNormal">\n	<span style="font-size: 12pt\; line-height: 115%\; font-family: Georgia\, serif\; background-position: initial initial\; background-repeat: initial initial\;">This year&rsquo\;s proceeds will benefit Extra Special People Inc.\, &quot\;where children with developmental disabilities don&#39\;t just survive...they THRIVE!&quot\; </span><span style="font-size: 12pt\; line-height: 115%\; font-family: Georgia\, serif\;">You can read more about them at </span><a href="http://www.extraspecialpeople.com/"><span style="font-size:12.0pt\;\nmso-bidi-font-size:11.0pt\;line-height:115%\;font-family:">http://www.extraspecialpeople.com/</span></a><span class="MsoHyperlink"><span style="font-size:12.0pt\;mso-bidi-font-size:11.0pt\;\nline-height:115%\;font-family:">.</span></span></p>\n<p class="MsoNormal">\n	&nbsp\;</p>\n<p align="center" class="MsoNormal" style="text-align:center">\n	<b><span style="font-size: 12pt\; line-height: 115%\; font-family: Georgia\, serif\; background-position: initial initial\; background-repeat: initial initial\;">WE HOPE TO SEE Y&rsquo\;ALL AT THE RACE</span>!</b></p>\n<p class="MsoNormal">\n	&nbsp\;</p>\n<p class="MsoNormal">\n	<b><span style="font-size: 12pt\; line-height: 115%\; font-family: Georgia\, serif\; background-position: initial initial\; background-repeat: initial initial\;">Date:</span></b><span style="font-size: 12pt\; line-height: 115%\; font-family: Georgia\, serif\; background-position: initial initial\; background-repeat: initial initial\;"> Sunday\, June 2\, 2013</span></p>\n<p class="MsoNormal">\n	&nbsp\;</p>\n<p class="MsoNormal">\n	<b><span style="font-size: 12pt\; line-height: 115%\; font-family: Georgia\, serif\; background-position: initial initial\; background-repeat: initial initial\;">Time:</span></b><span style="font-size: 12pt\; line-height: 115%\; font-family: Georgia\, serif\; background-position: initial initial\; background-repeat: initial initial\;"> Registration opens at 2:00 p.m.\; races begin at 3:00 p.m</span><span style="font-size: 12pt\; line-height: 115%\; font-family: Georgia\, serif\;">.</span></p>\n<p class="MsoNormal">\n	<span style="font-size: 12pt\; line-height: 115%\; font-family: Georgia\, serif\;">&nbsp\;</span></p>\n<p class="MsoNormal">\n	<b><span style="font-size:12.0pt\;line-height:115%\;font-family:">Location:</span></b><span style="font-size:12.0pt\;line-height:115%\;font-family:"> The Georgia Club 1050 Chancellors Dr. Statham\, GA 30666</span></p>\n<p class="MsoNormal">\n	&nbsp\;</p>\n<p class="MsoNormal">\n	<b><span style="font-size: 12pt\; line-height: 115%\; font-family: Georgia\, serif\; background-position: initial initial\; background-repeat: initial initial\;">Registration:</span></b><span style="font-size: 12pt\; line-height: 115%\; font-family: Georgia\, serif\; background-position: initial initial\; background-repeat: initial initial\;"> </span></p>\n<p class="MsoNormal">\n	<span style="font-size: 12pt\; line-height: 115%\; font-family: Georgia\, serif\; background-position: initial initial\; background-repeat: initial initial\;">$20 before May 14\; $25 after\; includes Front Porch Foot Race tee shirt</span></p>\n<p class="MsoNormal">\n	<span style="font-size: 12pt\; line-height: 115%\; font-family: Georgia\, serif\; background-position: initial initial\; background-repeat: initial initial\;">$15 no tee shirt</span></p>\n<p class="MsoNormal">\n	<span style="font-size: 12pt\; line-height: 115%\; font-family: Georgia\, serif\; background-position: initial initial\; background-repeat: initial initial\;">Donations accepted for Tot Trot registration </span></p>\n<p class="MsoNormal">\n	<span style="font-size: 12pt\; line-height: 115%\; font-family: Georgia\, serif\; background-position: initial initial\; background-repeat: initial initial\;">To register\, visit </span><a href="http://www.active.com/running/statham-ga/7th-annual-front-porch-foot-race-5k-and-fun-run-2013"><span style="font-size:12.0pt\;mso-bidi-font-size:11.0pt\;line-height:115%\;font-family:\n">http://www.active.com/running/statham-ga/7th-annual-front-porch-foot-race-5k-and-fun-run-2013</span></a><span style="font-size: 12pt\; line-height: 115%\; font-family: Georgia\, serif\; background-position: initial initial\; background-repeat: initial initial\;"> or call or email the Foundation at 770-725-4902 or TGCFoundation@thegeorgiaclub.com</span></p>\n
LOCATION:The Georgia Club\, 1050 Chancellors Dr.\, Statham\, GA 30666
UID:e.363.4852
SEQUENCE:3
DTSTAMP:20260422T221132Z
URL:https://barrowcm.365dtm.com/events/details/the-georgia-club-foundation-7th-annual-front-porch-foot-race-06-02-2013-4852
END:VEVENT

END:VCALENDAR
