BEGIN:VCALENDAR
VERSION:2.0
PRODID:-//ChamberMaster//Event Calendar 2.0//EN
METHOD:PUBLISH
X-PUBLISHED-TTL:P3D
REFRESH-INTERVAL:P3D
CALSCALE:GREGORIAN
BEGIN:VEVENT
DTSTART:20090210T170000Z
DTEND:20090211T003000Z
X-MICROSOFT-CDO-ALLDAYEVENT:FALSE
SUMMARY:The Principals Palette. -Valentine Special - Men's Night at the Gallery
DESCRIPTION:Find that special Sweet for your Sweetie? \nRefreshments Served
X-ALT-DESC;FMTTYPE=text/html:Find that special Sweet for your Sweetie? \nRefreshments Served
LOCATION:The Principal's Pallet 9 W. Wright St. Winder\, Ga 30680
UID:e.363.2658
SEQUENCE:3
DTSTAMP:20260426T042918Z
URL:https://barrowcm.365dtm.com/events/details/the-principals-palette-valentine-special-men-s-night-at-the-gallery-02-10-2009-2658
END:VEVENT

END:VCALENDAR
