BEGIN:VCALENDAR
VERSION:2.0
PRODID:-//ChamberMaster//Event Calendar 2.0//EN
METHOD:PUBLISH
X-PUBLISHED-TTL:P3D
REFRESH-INTERVAL:P3D
CALSCALE:GREGORIAN
BEGIN:VEVENT
DTSTART;VALUE=DATE:20121018
DTEND;VALUE=DATE:20121021
TRANSP:TRANSPARENT
X-MICROSOFT-CDO-ALLDAYEVENT:TRUE
SUMMARY:THINK PINK at ELANI FINE JEWELRY
DESCRIPTION:Forst 10 customers say THINK PINK  receive a FREE pink ribbon  charm OR\n\nSpend $100 on chamilia  produckts and  receive a pink ribbon charm (valued at $40)\n\n\n\nThink pink for a cure\n\n\n\nJoin us in our support of Breast Cancer Awareness month. Every year\, 10% of\n\nall sales from the Chamilia Pink Ribbon bead goes to fi ght breast cancer in our\n\ncommunities. It's a beautiful way that together\, we can fi nd a cure.
X-ALT-DESC;FMTTYPE=text/html:Forst 10 customers say THINK PINK&nbsp\; receive a FREE pink ribbon&nbsp\; charm OR<br />\nSpend $100 on chamilia&nbsp\; produckts and&nbsp\; receive a pink ribbon charm (valued at $40)<br />\n<br />\nThink pink for a cure<br />\n<br />\nJoin us in our support of Breast Cancer Awareness month. Every year\, 10% of<br />\nall sales from the Chamilia Pink Ribbon bead goes to fi ght breast cancer in our<br />\ncommunities. It&rsquo\;s a beautiful way that together\, we can fi nd a cure.
LOCATION:Elani Fine Jewelry
UID:e.363.4781
SEQUENCE:3
DTSTAMP:20260423T102520Z
URL:https://barrowcm.365dtm.com/events/details/think-pink-at-elani-fine-jewelry-10-18-2012-4781
END:VEVENT

END:VCALENDAR
