BEGIN:VCALENDAR
VERSION:2.0
PRODID:-//ChamberMaster//Event Calendar 2.0//EN
METHOD:PUBLISH
X-PUBLISHED-TTL:P3D
REFRESH-INTERVAL:P3D
CALSCALE:GREGORIAN
BEGIN:VEVENT
DTSTART:20120805T120000Z
DTEND:20120805T130000Z
X-MICROSOFT-CDO-ALLDAYEVENT:FALSE
SUMMARY:TJ Maxx - Ribbon Cutting
DESCRIPTION:TJ Maxx Ribbon Cutting
X-ALT-DESC;FMTTYPE=text/html:TJ Maxx Ribbon Cutting
LOCATION:Barrow Crossing next to Belk
UID:e.363.4531
SEQUENCE:3
DTSTAMP:20260423T132458Z
URL:https://barrowcm.365dtm.com/events/details/tj-maxx-ribbon-cutting-08-05-2012-4531
END:VEVENT

END:VCALENDAR
