BEGIN:VCALENDAR
VERSION:2.0
PRODID:-//ChamberMaster//Event Calendar 2.0//EN
METHOD:PUBLISH
X-PUBLISHED-TTL:P3D
REFRESH-INTERVAL:P3D
CALSCALE:GREGORIAN
BEGIN:VEVENT
DTSTART:20121027T140000Z
DTEND:20121027T180000Z
X-MICROSOFT-CDO-ALLDAYEVENT:FALSE
SUMMARY:TOYS for TOTS collection
DESCRIPTION:MARINE CORP TOYS for TOTS!   Our United States Marines will be here to personally collect your gift of an new unwrapped toy for children that would not have a Christmas without your generosity.   We sincerely look forward to seeing you Saturday 10am - 2pm at StorAway 208 W Athens Street\, Winder\, GA 770-868-1422 for details and directions
X-ALT-DESC;FMTTYPE=text/html:<u><strong>MARINE CORP TOYS for TOTS</strong></u>!&nbsp\;&nbsp\; Our United States Marines will be here to personally collect your gift of an new unwrapped toy for children that would not have a Christmas without your generosity.&nbsp\;&nbsp\; We sincerely look forward to seeing you Saturday 10am - 2pm at StorAway 208 W Athens Street\, Winder\, GA 770-868-1422 for details and directions
LOCATION:StorAway\, 208 W Athens Street\, Winder\, GA 30680
UID:e.363.4787
SEQUENCE:3
DTSTAMP:20260423T102108Z
URL:https://barrowcm.365dtm.com/events/details/toys-for-tots-collection-10-27-2012-4787
END:VEVENT

END:VCALENDAR
