BEGIN:VCALENDAR
VERSION:2.0
PRODID:-//ChamberMaster//Event Calendar 2.0//EN
METHOD:PUBLISH
X-PUBLISHED-TTL:P3D
REFRESH-INTERVAL:P3D
CALSCALE:GREGORIAN
BEGIN:VEVENT
DTSTART:20130824T120000Z
DTEND:20130824T130000Z
X-MICROSOFT-CDO-ALLDAYEVENT:FALSE
SUMMARY:Tree House\, Primal Rush OCR
DESCRIPTION:Get ready for the next BIG event....Primal Rush Obstacle Course\nRun...sponsored by The Tree House\, a non-profit children's advocacy center\nthat serves Barrow\, Jackson and Banks counties.\n\nJoin the fun as a participant or a spectator! Please go to the website below\nfor more information...and tell your friends!
X-ALT-DESC;FMTTYPE=text/html:<pre style="font-size: 9pt\;">\n<tt>\nGet ready for the next BIG event....Primal Rush Obstacle Course\nRun...sponsored by The Tree House\, a non-profit children&#39\;s advocacy center\nthat serves Barrow\, Jackson and Banks counties.\n\nJoin the fun as a participant or a spectator! Please go to the website below\nfor more information...and tell your friends!</tt></pre>\n
LOCATION:Crow's Lake\, Jefferson
UID:e.363.4864
SEQUENCE:3
DTSTAMP:20260422T191420Z
URL:https://barrowcm.365dtm.com/events/details/tree-house-primal-rush-ocr-08-24-2013-4864
END:VEVENT

END:VCALENDAR
