BEGIN:VCALENDAR
VERSION:2.0
PRODID:-//ChamberMaster//Event Calendar 2.0//EN
METHOD:PUBLISH
X-PUBLISHED-TTL:P3D
REFRESH-INTERVAL:P3D
CALSCALE:GREGORIAN
BEGIN:VEVENT
DTSTART:20120504T150000Z
DTEND:20120504T170000Z
X-MICROSOFT-CDO-ALLDAYEVENT:FALSE
SUMMARY:Tri-County Women in Business
DESCRIPTION:Tri-County Women in Business\n\nAthens\, Oconee\, and Barrow
X-ALT-DESC;FMTTYPE=text/html:Tri-County Women in Business<br />\nAthens\, Oconee\, and Barrow
LOCATION:The Georgia Club
UID:e.363.4184
SEQUENCE:3
DTSTAMP:20260423T181339Z
URL:https://barrowcm.365dtm.com/events/details/tri-county-women-in-business-05-04-2012-4184
END:VEVENT

END:VCALENDAR
