BEGIN:VCALENDAR
VERSION:2.0
PRODID:-//ChamberMaster//Event Calendar 2.0//EN
METHOD:PUBLISH
X-PUBLISHED-TTL:P3D
REFRESH-INTERVAL:P3D
CALSCALE:GREGORIAN
BEGIN:VEVENT
DTSTART:20110506T150000Z
DTEND:20110506T170000Z
X-MICROSOFT-CDO-ALLDAYEVENT:FALSE
SUMMARY:Tri County Women in Business Council
DESCRIPTION:Women in Business\n\n	Joint Women Coucil with Athens Clarke County Chamber
X-ALT-DESC;FMTTYPE=text/html:<p>\n	Women in Business</p>\n<p>\n	Joint Women Coucil with Athens Clarke County Chamber</p>\n
LOCATION:The Georgia Club
UID:e.363.3688
SEQUENCE:3
DTSTAMP:20260424T105233Z
URL:https://barrowcm.365dtm.com/events/details/tri-county-women-in-business-council-05-06-2011-3688
END:VEVENT

END:VCALENDAR
