BEGIN:VCALENDAR
VERSION:2.0
PRODID:-//ChamberMaster//Event Calendar 2.0//EN
METHOD:PUBLISH
X-PUBLISHED-TTL:P3D
REFRESH-INTERVAL:P3D
CALSCALE:GREGORIAN
BEGIN:VEVENT
DTSTART:20121031T210000Z
DTEND:20121101T000000Z
X-MICROSOFT-CDO-ALLDAYEVENT:FALSE
SUMMARY:Trick or Treat @ Camp Twin Lakes
DESCRIPTION:Halloween is coming soon.\n\nSo grab your mask or your broom.\n\nCamp Twin Lakes will be your host.\n\nCome one come all\, goblins and ghosts!\n\n\n\nJoin us for a spooktacular night of trick-or-treating!\n\n\n\nFor 20 years\, Camp Twin Lakes has provided life-changing camp experiences for children facing serious illnesses\, disabilities\, and other life challenges. All sponsorships and donations will go towards providing Camper Scholarships.
X-ALT-DESC;FMTTYPE=text/html:<span style="font-family: arial">Halloween is coming soon.<br />\nSo grab your mask or your broom.<br />\nCamp Twin Lakes will be your host.<br />\nCome one come all\, goblins and ghosts!<br />\n<br />\nJoin us for a spooktacular night of trick-or-treating!<br />\n<br />\nFor 20 years\, Camp Twin Lakes has provided life-changing camp experiences for children facing serious illnesses\, disabilities\, and other life challenges. All sponsorships and donations will go towards providing Camper Scholarships.</span>
LOCATION:Camp Twin Lakes Will-A-Way (Located inside Fort Yargo State Park 210 S. Broad Street Winder\, GA 30680
UID:e.363.4537
SEQUENCE:3
DTSTAMP:20260423T102346Z
URL:https://barrowcm.365dtm.com/events/details/trick-or-treat-camp-twin-lakes-10-31-2012-4537
END:VEVENT

END:VCALENDAR
