BEGIN:VCALENDAR
VERSION:2.0
PRODID:-//ChamberMaster//Event Calendar 2.0//EN
METHOD:PUBLISH
X-PUBLISHED-TTL:P3D
REFRESH-INTERVAL:P3D
CALSCALE:GREGORIAN
BEGIN:VEVENT
DTSTART;VALUE=DATE:20091109
DTEND;VALUE=DATE:20091201
TRANSP:TRANSPARENT
X-MICROSOFT-CDO-ALLDAYEVENT:TRUE
SUMMARY:US CENSUS BUREAU - HIRING - 1-866-861-2010
DESCRIPTION:US CENSUS JOBS - Temporary full-time and part-time positions available.  Competitive pay\, paid training & a mileage allowance for field work.  For more information and to schedule a written test of basic skills\, please call 1-866-861-2010 or visit www.2010censusjobs.gov
X-ALT-DESC;FMTTYPE=text/html:US CENSUS JOBS - Temporary full-time and part-time positions available.  Competitive pay\, paid training & a mileage allowance for field work.  For more information and to schedule a written test of basic skills\, please call 1-866-861-2010 or visit www.2010censusjobs.gov
LOCATION:Barrow County
UID:e.363.3065
SEQUENCE:3
DTSTAMP:20260425T134301Z
URL:https://barrowcm.365dtm.com/events/details/us-census-bureau-hiring-1-866-861-2010-11-09-2009-3065
END:VEVENT

END:VCALENDAR
