BEGIN:VCALENDAR
VERSION:2.0
PRODID:-//ChamberMaster//Event Calendar 2.0//EN
METHOD:PUBLISH
X-PUBLISHED-TTL:P3D
REFRESH-INTERVAL:P3D
CALSCALE:GREGORIAN
BEGIN:VEVENT
DTSTART:20140509T210000Z
DTEND:20140509T223000Z
X-MICROSOFT-CDO-ALLDAYEVENT:FALSE
SUMMARY:WBHS Football Alumi BBQ & Spring Game
DESCRIPTION:Football Alumni BBQ 5pm-6:30pm
X-ALT-DESC;FMTTYPE=text/html:Football Alumni BBQ 5pm-6:30pm
LOCATION:W Clair Harris Stadium
UID:e.363.5414
SEQUENCE:3
DTSTAMP:20260422T020118Z
URL:https://barrowcm.365dtm.com/events/details/wbhs-football-alumi-bbq-spring-game-05-09-2014-5414
END:VEVENT

END:VCALENDAR
