BEGIN:VCALENDAR
VERSION:2.0
PRODID:-//ChamberMaster//Event Calendar 2.0//EN
METHOD:PUBLISH
X-PUBLISHED-TTL:P3D
REFRESH-INTERVAL:P3D
CALSCALE:GREGORIAN
BEGIN:VEVENT
DTSTART:20100121T233000Z
DTEND:20100122T010000Z
X-MICROSOFT-CDO-ALLDAYEVENT:FALSE
SUMMARY:Wedding Boot Camp
DESCRIPTION:This event is designed to teach and inspire brides how to plan their own weddings. This 1 1/2 hour educational seminar features Janice Blackmon she began coordinating weddings as a hobby\, which through the years grew into her full-time\, extremely successful career.   Janice has coordinated hundreds of weddings all over the Southeast.  Her attention to detail and calm demeanor when dealing with stressful situations makes her a valuable asset in coordinating weddings and events. R.S.V.P. by January 14th
X-ALT-DESC;FMTTYPE=text/html:This event is designed to teach and inspire brides how to plan their own weddings. This 1 1/2 hour educational seminar features Janice Blackmon she began coordinating weddings as a hobby\, which through the years grew into her full-time\, extremely successful career.   Janice has coordinated hundreds of weddings all over the Southeast.  Her attention to detail and calm demeanor when dealing with stressful situations makes her a valuable asset in coordinating weddings and events. R.S.V.P. by January 14th
LOCATION:Carl House 1176 Atlanta Hwy.\, Auburn\, GA 30011
UID:e.363.3182
SEQUENCE:3
DTSTAMP:20260425T103854Z
URL:https://barrowcm.365dtm.com/events/details/wedding-boot-camp-01-21-2010-3182
END:VEVENT

END:VCALENDAR
