BEGIN:VCALENDAR
VERSION:2.0
PRODID:-//ChamberMaster//Event Calendar 2.0//EN
METHOD:PUBLISH
X-PUBLISHED-TTL:P3D
REFRESH-INTERVAL:P3D
CALSCALE:GREGORIAN
BEGIN:VEVENT
DTSTART:20150821T230000Z
DTEND:20150822T020000Z
X-MICROSOFT-CDO-ALLDAYEVENT:FALSE
SUMMARY:Winder LIVE! Music Series
DESCRIPTION:Winder LIVE! Music Series \n\nLive entertainment provided by The Line 6 Band with Winder's own Joel Goddard opening. FREE admission! Bring your lawn chairs\, and bring your friends and family! Food and beverages will be available.
X-ALT-DESC;FMTTYPE=text/html:<strong>Winder LIVE! Music Series </strong><br />\nLive entertainment provided by The Line 6 Band with&nbsp\;Winder&#39\;s own Joel Goddard opening. FREE admission! Bring your lawn chairs\, and bring your friends and family! Food and beverages will be available.
LOCATION:Downtown Winder Gazebo on the corners of N. Broad St. and Candler St.
UID:e.363.5803
SEQUENCE:3
DTSTAMP:20260421T023911Z
URL:https://barrowcm.365dtm.com/events/details/winder-live-music-series-08-21-2015-5803
END:VEVENT

END:VCALENDAR
