BEGIN:VCALENDAR
VERSION:2.0
PRODID:-//ChamberMaster//Event Calendar 2.0//EN
METHOD:PUBLISH
X-PUBLISHED-TTL:P3D
REFRESH-INTERVAL:P3D
CALSCALE:GREGORIAN
BEGIN:VEVENT
DTSTART:20120313T230000Z
DTEND:20120314T003000Z
X-MICROSOFT-CDO-ALLDAYEVENT:FALSE
SUMMARY:Winder Woman's Club Meeting
DESCRIPTION:Winder Woman's club is a volunteer service organization serving Barrow county.  Monthly meetings are held on the second Tuesday of the month.  If you would like to know more about us or are interested in joining\, please come to a meeting.
X-ALT-DESC;FMTTYPE=text/html:Winder Woman&#39\;s club is a volunteer service organization serving Barrow county.&nbsp\; Monthly meetings are held on the second Tuesday of the month.&nbsp\; If you would like to know more about us or are interested in joining\, please come to a meeting.
LOCATION:Winder Woman's Club 15W. Midland Ave. Winder GA\, 30680
UID:e.363.4215
SEQUENCE:3
DTSTAMP:20260423T211943Z
URL:https://barrowcm.365dtm.com/events/details/winder-woman-s-club-meeting-03-13-2012-4215
END:VEVENT

END:VCALENDAR
