BEGIN:VCALENDAR
VERSION:2.0
PRODID:-//ChamberMaster//Event Calendar 2.0//EN
METHOD:PUBLISH
X-PUBLISHED-TTL:P3D
REFRESH-INTERVAL:P3D
CALSCALE:GREGORIAN
BEGIN:VEVENT
DTSTART:20120629T230000Z
DTEND:20120630T010000Z
X-MICROSOFT-CDO-ALLDAYEVENT:FALSE
SUMMARY:Wine Pairing Dinner at Carl House
DESCRIPTION:Prepare to be delighted with an evening at Carl House!  Enjoy four courses and four wines with music from DJ Louie Londono!  Please RSVP by Monday\, June 25th by calling 770.586.0095 or by emailing info@carlhouse.com.
X-ALT-DESC;FMTTYPE=text/html:Prepare to be delighted with an evening at Carl House! &nbsp\;Enjoy four courses and four wines with music from DJ Louie Londono! &nbsp\;Please RSVP by Monday\, June 25th by calling 770.586.0095 or by emailing info@carlhouse.com.
LOCATION:Carl House\, 1176 Atlanta Highway - Auburn\, GA 30011
UID:e.363.4265
SEQUENCE:3
DTSTAMP:20260423T162546Z
URL:https://barrowcm.365dtm.com/events/details/wine-pairing-dinner-at-carl-house-06-29-2012-4265
END:VEVENT

END:VCALENDAR
