BEGIN:VCALENDAR
VERSION:2.0
PRODID:-//ChamberMaster//Event Calendar 2.0//EN
METHOD:PUBLISH
X-PUBLISHED-TTL:P3D
REFRESH-INTERVAL:P3D
CALSCALE:GREGORIAN
BEGIN:VEVENT
DTSTART:20130625T153000Z
DTEND:20130625T170000Z
X-MICROSOFT-CDO-ALLDAYEVENT:FALSE
SUMMARY:Woman in Business
DESCRIPTION:Women in Business\n\nInsurance Changes for 2014- Learn what your business needs to\n\nknow about the new Federal Health care law.
X-ALT-DESC;FMTTYPE=text/html:Women in Business<br />\nInsurance Changes for 2014- Learn what your business needs to<br />\nknow about the new Federal Health care law.
LOCATION:Hostess House
UID:e.363.4824
SEQUENCE:3
DTSTAMP:20260422T220903Z
URL:https://barrowcm.365dtm.com/events/details/woman-in-business-06-25-2013-4824
END:VEVENT

END:VCALENDAR
