BEGIN:VCALENDAR
VERSION:2.0
PRODID:-//ChamberMaster//Event Calendar 2.0//EN
METHOD:PUBLISH
X-PUBLISHED-TTL:P3D
REFRESH-INTERVAL:P3D
CALSCALE:GREGORIAN
BEGIN:VEVENT
DTSTART;VALUE=DATE:20140923
DTEND;VALUE=DATE:20140924
TRANSP:TRANSPARENT
X-MICROSOFT-CDO-ALLDAYEVENT:TRUE
SUMMARY:Women in Busines
DESCRIPTION:
X-ALT-DESC;FMTTYPE=text/html:
LOCATION:
UID:e.363.5452
SEQUENCE:3
DTSTAMP:20260421T202144Z
URL:https://barrowcm.365dtm.com/events/details/women-in-busines-09-23-2014-5452
END:VEVENT

END:VCALENDAR
