BEGIN:VCALENDAR
VERSION:2.0
PRODID:-//ChamberMaster//Event Calendar 2.0//EN
METHOD:PUBLISH
X-PUBLISHED-TTL:P3D
REFRESH-INTERVAL:P3D
CALSCALE:GREGORIAN
BEGIN:VEVENT
DTSTART:20100113T163000Z
DTEND:20100113T180000Z
X-MICROSOFT-CDO-ALLDAYEVENT:FALSE
SUMMARY:Women in Business
DESCRIPTION:Women in Business
X-ALT-DESC;FMTTYPE=text/html:<div>Women in Business</div>
LOCATION:Hostess House299 Cedar Creek RoadWinder\,30680
UID:e.363.3013
SEQUENCE:3
DTSTAMP:20260425T110354Z
URL:https://barrowcm.365dtm.com/events/details/women-in-business-01-13-2010-3013
END:VEVENT

END:VCALENDAR
