BEGIN:VCALENDAR
VERSION:2.0
PRODID:-//ChamberMaster//Event Calendar 2.0//EN
METHOD:PUBLISH
X-PUBLISHED-TTL:P3D
REFRESH-INTERVAL:P3D
CALSCALE:GREGORIAN
BEGIN:VEVENT
DTSTART:20130122T163000Z
DTEND:20130122T180000Z
X-MICROSOFT-CDO-ALLDAYEVENT:FALSE
SUMMARY:Women in Business
DESCRIPTION:Women in Business\n\n	Speaking about February's Heart Health Month\n\n	WEAR RED
X-ALT-DESC;FMTTYPE=text/html:<p>\n	Women in Business<br />\n	Speaking about February&#39\;s Heart Health Month<br />\n	WEAR RED</p>\n
LOCATION:Hostess House 299 Cedar Creek Rd Winder\, Ga 30680
UID:e.363.4183
SEQUENCE:3
DTSTAMP:20260423T054145Z
URL:https://barrowcm.365dtm.com/events/details/women-in-business-01-22-2013-4183
END:VEVENT

END:VCALENDAR
