BEGIN:VCALENDAR
VERSION:2.0
PRODID:-//ChamberMaster//Event Calendar 2.0//EN
METHOD:PUBLISH
X-PUBLISHED-TTL:P3D
REFRESH-INTERVAL:P3D
CALSCALE:GREGORIAN
BEGIN:VEVENT
DTSTART:20120124T223000Z
DTEND:20120125T000000Z
X-MICROSOFT-CDO-ALLDAYEVENT:FALSE
SUMMARY:Women in Business
DESCRIPTION:Women in Business\n\n\n\nMaking our Derby Hats for Annual Dinner
X-ALT-DESC;FMTTYPE=text/html:Women in Business<br />\n<br />\nMaking our Derby Hats for Annual Dinner
LOCATION:Chamber Office
UID:e.363.4127
SEQUENCE:3
DTSTAMP:20260423T235637Z
URL:https://barrowcm.365dtm.com/events/details/women-in-business-01-24-2012-4127
END:VEVENT

END:VCALENDAR
