BEGIN:VCALENDAR
VERSION:2.0
PRODID:-//ChamberMaster//Event Calendar 2.0//EN
METHOD:PUBLISH
X-PUBLISHED-TTL:P3D
REFRESH-INTERVAL:P3D
CALSCALE:GREGORIAN
BEGIN:VEVENT
DTSTART;VALUE=DATE:20090211
DTEND;VALUE=DATE:20090212
TRANSP:TRANSPARENT
X-MICROSOFT-CDO-ALLDAYEVENT:TRUE
SUMMARY:Women in Business
DESCRIPTION:Women In BusinessFeature guest speaker The Barrow News"What does it take to put a Newspaper Together?"Debbie Burgamy and LeAnn Akin
X-ALT-DESC;FMTTYPE=text/html:<div>Women In Business</div><div>Feature guest speaker The Barrow News</div><div>&quot\;What does it take to put a Newspaper Together?&quot\;</div><div>Debbie Burgamy and LeAnn Akin</div>
LOCATION:Hostess House299 Cedar Creek RoadWinder\, 30680
UID:e.363.2659
SEQUENCE:3
DTSTAMP:20260426T041734Z
URL:https://barrowcm.365dtm.com/events/details/women-in-business-02-11-2009-2659
END:VEVENT

END:VCALENDAR
