BEGIN:VCALENDAR
VERSION:2.0
PRODID:-//ChamberMaster//Event Calendar 2.0//EN
METHOD:PUBLISH
X-PUBLISHED-TTL:P3D
REFRESH-INTERVAL:P3D
CALSCALE:GREGORIAN
BEGIN:VEVENT
DTSTART:20160223T163000Z
DTEND:20160223T180000Z
X-MICROSOFT-CDO-ALLDAYEVENT:FALSE
SUMMARY:Women in Business
DESCRIPTION:Women in Business
X-ALT-DESC;FMTTYPE=text/html:Women in Business<br />\n&nbsp\;
LOCATION:Barrow Regional Hospital
UID:e.363.5855
SEQUENCE:3
DTSTAMP:20260420T172601Z
URL:https://barrowcm.365dtm.com/events/details/women-in-business-02-23-2016-5855
END:VEVENT

END:VCALENDAR
