BEGIN:VCALENDAR
VERSION:2.0
PRODID:-//ChamberMaster//Event Calendar 2.0//EN
METHOD:PUBLISH
X-PUBLISHED-TTL:P3D
REFRESH-INTERVAL:P3D
CALSCALE:GREGORIAN
BEGIN:VEVENT
DTSTART:20110413T153000Z
DTEND:20110413T170000Z
X-MICROSOFT-CDO-ALLDAYEVENT:FALSE
SUMMARY:Women in Business
DESCRIPTION:Women in Business\n\nThe Strategy to Clipping Coupons and the Money you can save\n\nHaley Pendley and Dawn Maturin
X-ALT-DESC;FMTTYPE=text/html:Women in Business<br />\nThe Strategy to Clipping Coupons and the Money you can save<br />\nHaley Pendley and Dawn Maturin
LOCATION:Magnolia Estates 624 Gainesville Hwy\, Winder
UID:e.363.3687
SEQUENCE:3
DTSTAMP:20260424T121619Z
URL:https://barrowcm.365dtm.com/events/details/women-in-business-04-13-2011-3687
END:VEVENT

END:VCALENDAR
