BEGIN:VCALENDAR
VERSION:2.0
PRODID:-//ChamberMaster//Event Calendar 2.0//EN
METHOD:PUBLISH
X-PUBLISHED-TTL:P3D
REFRESH-INTERVAL:P3D
CALSCALE:GREGORIAN
BEGIN:VEVENT
DTSTART:20150421T153000Z
DTEND:20150421T170000Z
X-MICROSOFT-CDO-ALLDAYEVENT:FALSE
SUMMARY:Women in Business
DESCRIPTION:Kay Manning with the Council of\n\nAlcohol and Drugs
X-ALT-DESC;FMTTYPE=text/html:Kay Manning with the Council of<br />\nAlcohol and Drugs<br />\n&nbsp\;
LOCATION:THe Hostess House
UID:e.363.5759
SEQUENCE:3
DTSTAMP:20260421T092323Z
URL:https://barrowcm.365dtm.com/events/details/women-in-business-04-21-2015-5759
END:VEVENT

END:VCALENDAR
