BEGIN:VCALENDAR
VERSION:2.0
PRODID:-//ChamberMaster//Event Calendar 2.0//EN
METHOD:PUBLISH
X-PUBLISHED-TTL:P3D
REFRESH-INTERVAL:P3D
CALSCALE:GREGORIAN
BEGIN:VEVENT
DTSTART:20140422T153000Z
DTEND:20140422T170000Z
X-MICROSOFT-CDO-ALLDAYEVENT:FALSE
SUMMARY:Women In Business
DESCRIPTION:Time Management/Organizational strategies
X-ALT-DESC;FMTTYPE=text/html:Time Management/Organizational strategies
LOCATION:Hostess House
UID:e.363.5401
SEQUENCE:3
DTSTAMP:20260422T034657Z
URL:https://barrowcm.365dtm.com/events/details/women-in-business-04-22-2014-5401
END:VEVENT

END:VCALENDAR
