BEGIN:VCALENDAR
VERSION:2.0
PRODID:-//ChamberMaster//Event Calendar 2.0//EN
METHOD:PUBLISH
X-PUBLISHED-TTL:P3D
REFRESH-INTERVAL:P3D
CALSCALE:GREGORIAN
BEGIN:VEVENT
DTSTART:20120424T153000Z
DTEND:20120424T170000Z
X-MICROSOFT-CDO-ALLDAYEVENT:FALSE
SUMMARY:Women in Business
DESCRIPTION:"How does your Garden Grow" Master Gardener\n\n	Invest in your Life -
X-ALT-DESC;FMTTYPE=text/html:<p>\n	&quot\;How does your Garden Grow&quot\; Master Gardener</p>\n<p>\n	Invest in your Life -&nbsp\;</p>\n
LOCATION:Hostess House 299 Cedar Creek Rd Winder\, Ga 30680
UID:e.363.4174
SEQUENCE:3
DTSTAMP:20260423T193545Z
URL:https://barrowcm.365dtm.com/events/details/women-in-business-04-24-2012-4174
END:VEVENT

END:VCALENDAR
