BEGIN:VCALENDAR
VERSION:2.0
PRODID:-//ChamberMaster//Event Calendar 2.0//EN
METHOD:PUBLISH
X-PUBLISHED-TTL:P3D
REFRESH-INTERVAL:P3D
CALSCALE:GREGORIAN
BEGIN:VEVENT
DTSTART:20130426T153000Z
DTEND:20130426T164500Z
X-MICROSOFT-CDO-ALLDAYEVENT:FALSE
SUMMARY:Women in Business
DESCRIPTION:Women in Business with\n\nAthens/Oconee ladies\n\n\n\nGuest Speaker:  Mary Moore
X-ALT-DESC;FMTTYPE=text/html:Women in Business with<br />\nAthens/Oconee ladies<br />\n<br />\nGuest Speaker:&nbsp\; Mary Moore
LOCATION:Georgia Club
UID:e.363.4822
SEQUENCE:3
DTSTAMP:20260423T011354Z
URL:https://barrowcm.365dtm.com/events/details/women-in-business-04-26-2013-4822
END:VEVENT

END:VCALENDAR
