BEGIN:VCALENDAR
VERSION:2.0
PRODID:-//ChamberMaster//Event Calendar 2.0//EN
METHOD:PUBLISH
X-PUBLISHED-TTL:P3D
REFRESH-INTERVAL:P3D
CALSCALE:GREGORIAN
BEGIN:VEVENT
DTSTART:20090513T153000Z
DTEND:20090513T170000Z
X-MICROSOFT-CDO-ALLDAYEVENT:FALSE
SUMMARY:Women In Business
DESCRIPTION:Women in Business meeting and Lunch
X-ALT-DESC;FMTTYPE=text/html:Women in Business meeting and Lunch
LOCATION:The Hotstess House -299 Cedar Creek Rd. Winder
UID:e.363.2708
SEQUENCE:3
DTSTAMP:20260425T234213Z
URL:https://barrowcm.365dtm.com/events/details/women-in-business-05-13-2009-2708
END:VEVENT

END:VCALENDAR
