BEGIN:VCALENDAR
VERSION:2.0
PRODID:-//ChamberMaster//Event Calendar 2.0//EN
METHOD:PUBLISH
X-PUBLISHED-TTL:P3D
REFRESH-INTERVAL:P3D
CALSCALE:GREGORIAN
BEGIN:VEVENT
DTSTART:20140520T153000Z
DTEND:20140520T170000Z
X-MICROSOFT-CDO-ALLDAYEVENT:FALSE
SUMMARY:Women in Business
DESCRIPTION:Pinterest for your business
X-ALT-DESC;FMTTYPE=text/html:Pinterest for your business
LOCATION:Magnolia House
UID:e.363.5402
SEQUENCE:3
DTSTAMP:20260422T020037Z
URL:https://barrowcm.365dtm.com/events/details/women-in-business-05-20-2014-5402
END:VEVENT

END:VCALENDAR
