BEGIN:VCALENDAR
VERSION:2.0
PRODID:-//ChamberMaster//Event Calendar 2.0//EN
METHOD:PUBLISH
X-PUBLISHED-TTL:P3D
REFRESH-INTERVAL:P3D
CALSCALE:GREGORIAN
BEGIN:VEVENT
DTSTART:20130528T153000Z
DTEND:20130528T170000Z
X-MICROSOFT-CDO-ALLDAYEVENT:FALSE
SUMMARY:Women in Business
DESCRIPTION:Women in Business\n\n	Dr. Dozier: Guest Speaker
X-ALT-DESC;FMTTYPE=text/html:<p>\n	Women in Business</p>\n<p>\n	Dr. Dozier: Guest Speaker</p>\n
LOCATION:Hostess House
UID:e.363.4831
SEQUENCE:3
DTSTAMP:20260422T233446Z
URL:https://barrowcm.365dtm.com/events/details/women-in-business-05-28-2013-4831
END:VEVENT

END:VCALENDAR
