BEGIN:VCALENDAR
VERSION:2.0
PRODID:-//ChamberMaster//Event Calendar 2.0//EN
METHOD:PUBLISH
X-PUBLISHED-TTL:P3D
REFRESH-INTERVAL:P3D
CALSCALE:GREGORIAN
BEGIN:VEVENT
DTSTART:20120626T153000Z
DTEND:20120626T170000Z
X-MICROSOFT-CDO-ALLDAYEVENT:FALSE
SUMMARY:Women in Business
DESCRIPTION:Score big savings and dress to the 9's from the Consignment Rack\n\n	10 minute spot light\, the Judson House
X-ALT-DESC;FMTTYPE=text/html:<p>\n	Score big savings and dress to the 9&#39\;s from the Consignment Rack</p>\n<p>\n	10 minute spot light\, the Judson House</p>\n
LOCATION:Hostess House 299 Cedar Creek Rd Winder\, Ga 30680
UID:e.363.4176
SEQUENCE:3
DTSTAMP:20260423T162714Z
URL:https://barrowcm.365dtm.com/events/details/women-in-business-06-26-2012-4176
END:VEVENT

END:VCALENDAR
