BEGIN:VCALENDAR
VERSION:2.0
PRODID:-//ChamberMaster//Event Calendar 2.0//EN
METHOD:PUBLISH
X-PUBLISHED-TTL:P3D
REFRESH-INTERVAL:P3D
CALSCALE:GREGORIAN
BEGIN:VEVENT
DTSTART:20090812T153000Z
DTEND:20090812T170000Z
X-MICROSOFT-CDO-ALLDAYEVENT:FALSE
SUMMARY:Women in Business
DESCRIPTION:Women in BusinessGuest Speaker: Sandra Townsel - Domestic Violence\, How it affects You and your business
X-ALT-DESC;FMTTYPE=text/html:<div>Women in Business</div><div>Guest Speaker: Sandra Townsel - Domestic Violence\, How it affects You and your business</div>
LOCATION:Hostess House299 Cedar Creek RoadWinder\,30680
UID:e.363.3008
SEQUENCE:3
DTSTAMP:20260425T185952Z
URL:https://barrowcm.365dtm.com/events/details/women-in-business-08-12-2009-3008
END:VEVENT

END:VCALENDAR
