BEGIN:VCALENDAR
VERSION:2.0
PRODID:-//ChamberMaster//Event Calendar 2.0//EN
METHOD:PUBLISH
X-PUBLISHED-TTL:P3D
REFRESH-INTERVAL:P3D
CALSCALE:GREGORIAN
BEGIN:VEVENT
DTSTART:20130827T153000Z
DTEND:20130827T170000Z
X-MICROSOFT-CDO-ALLDAYEVENT:FALSE
SUMMARY:Women in Business
DESCRIPTION:Women in Business\n\nBentleys - Grilling
X-ALT-DESC;FMTTYPE=text/html:Women in Business<br />\nBentleys - Grilling
LOCATION:Hostess House
UID:e.363.4825
SEQUENCE:3
DTSTAMP:20260422T192419Z
URL:https://barrowcm.365dtm.com/events/details/women-in-business-08-27-2013-4825
END:VEVENT

END:VCALENDAR
