BEGIN:VCALENDAR
VERSION:2.0
PRODID:-//ChamberMaster//Event Calendar 2.0//EN
METHOD:PUBLISH
X-PUBLISHED-TTL:P3D
REFRESH-INTERVAL:P3D
CALSCALE:GREGORIAN
BEGIN:VEVENT
DTSTART:20120828T153000Z
DTEND:20120828T170000Z
X-MICROSOFT-CDO-ALLDAYEVENT:FALSE
SUMMARY:Women in Business
DESCRIPTION:Conflict Resolution in the Workplace  Jim Litchford\n\n	Athens Regional Medical Center - spotlight
X-ALT-DESC;FMTTYPE=text/html:<p>\n	Conflict Resolution in the Workplace&nbsp\; Jim Litchford</p>\n<p>\n	Athens Regional Medical Center - spotlight</p>\n
LOCATION:Hostess House 299 Cedar Creek Rd Winder\, Ga 30680
UID:e.363.4178
SEQUENCE:3
DTSTAMP:20260423T132605Z
URL:https://barrowcm.365dtm.com/events/details/women-in-business-08-28-2012-4178
END:VEVENT

END:VCALENDAR
