BEGIN:VCALENDAR
VERSION:2.0
PRODID:-//ChamberMaster//Event Calendar 2.0//EN
METHOD:PUBLISH
X-PUBLISHED-TTL:P3D
REFRESH-INTERVAL:P3D
CALSCALE:GREGORIAN
BEGIN:VEVENT
DTSTART;VALUE=DATE:20100908
DTEND;VALUE=DATE:20100909
TRANSP:TRANSPARENT
X-MICROSOFT-CDO-ALLDAYEVENT:TRUE
SUMMARY:Women in Business
DESCRIPTION:Women in Business
X-ALT-DESC;FMTTYPE=text/html:<div>Women in Business</div>
LOCATION:The Hostess House - 299 Cedar Creek Rd\, WInder
UID:e.363.3584
SEQUENCE:3
DTSTAMP:20260424T224210Z
URL:https://barrowcm.365dtm.com/events/details/women-in-business-09-08-2010-3584
END:VEVENT

END:VCALENDAR
