BEGIN:VCALENDAR
VERSION:2.0
PRODID:-//ChamberMaster//Event Calendar 2.0//EN
METHOD:PUBLISH
X-PUBLISHED-TTL:P3D
REFRESH-INTERVAL:P3D
CALSCALE:GREGORIAN
BEGIN:VEVENT
DTSTART:20160927T153000Z
DTEND:20160927T170000Z
X-MICROSOFT-CDO-ALLDAYEVENT:FALSE
SUMMARY:Women in Business
DESCRIPTION:Women in Business\n\nSpeaker: Wayne Bartlett
X-ALT-DESC;FMTTYPE=text/html:Women in Business<br />\nSpeaker: Wayne Bartlett
LOCATION:
UID:e.363.5876
SEQUENCE:3
DTSTAMP:20260420T064133Z
URL:https://barrowcm.365dtm.com/events/details/women-in-business-09-27-2016-5876
END:VEVENT

END:VCALENDAR
