BEGIN:VCALENDAR
VERSION:2.0
PRODID:-//ChamberMaster//Event Calendar 2.0//EN
METHOD:PUBLISH
X-PUBLISHED-TTL:P3D
REFRESH-INTERVAL:P3D
CALSCALE:GREGORIAN
BEGIN:VEVENT
DTSTART:20111013T033000Z
DTEND:20111012T170000Z
X-MICROSOFT-CDO-ALLDAYEVENT:FALSE
SUMMARY:Women in Business
DESCRIPTION:Women in Business\n\nFinacial Planning How to Plan for the Future Deborah\n\nHeisman Wells Fargo
X-ALT-DESC;FMTTYPE=text/html:Women in Business<br />\nFinacial Planning How to Plan for the Future Deborah<br />\nHeisman Wells Fargo
LOCATION:Hostess House 299 Cedar Creek Rd\, Winder
UID:e.363.3693
SEQUENCE:3
DTSTAMP:20260424T040409Z
URL:https://barrowcm.365dtm.com/events/details/women-in-business-10-12-2011-3693
END:VEVENT

END:VCALENDAR
