BEGIN:VCALENDAR
VERSION:2.0
PRODID:-//ChamberMaster//Event Calendar 2.0//EN
METHOD:PUBLISH
X-PUBLISHED-TTL:P3D
REFRESH-INTERVAL:P3D
CALSCALE:GREGORIAN
BEGIN:VEVENT
DTSTART:20091014T153000Z
DTEND:20091014T170000Z
X-MICROSOFT-CDO-ALLDAYEVENT:FALSE
SUMMARY:Women in Business
DESCRIPTION:Women in BusinessGina Mixon: Marketing yourself and your business
X-ALT-DESC;FMTTYPE=text/html:<div>Women in Business</div><div>Gina Mixon: Marketing yourself and your business</div>
LOCATION:Hostess House299 Cedar Creek RoadWinder\,30680
UID:e.363.3010
SEQUENCE:3
DTSTAMP:20260425T153243Z
URL:https://barrowcm.365dtm.com/events/details/women-in-business-10-14-2009-3010
END:VEVENT

END:VCALENDAR
