BEGIN:VCALENDAR
VERSION:2.0
PRODID:-//ChamberMaster//Event Calendar 2.0//EN
METHOD:PUBLISH
X-PUBLISHED-TTL:P3D
REFRESH-INTERVAL:P3D
CALSCALE:GREGORIAN
BEGIN:VEVENT
DTSTART:20121023T153000Z
DTEND:20121023T170000Z
X-MICROSOFT-CDO-ALLDAYEVENT:FALSE
SUMMARY:Women in Business
DESCRIPTION:Women in Business
X-ALT-DESC;FMTTYPE=text/html:Women in Business
LOCATION:Hostess House 299 Cedar Creek Rd.
UID:e.363.4776
SEQUENCE:3
DTSTAMP:20260423T102031Z
URL:https://barrowcm.365dtm.com/events/details/women-in-business-10-23-2012-4776
END:VEVENT

END:VCALENDAR
