BEGIN:VCALENDAR
VERSION:2.0
PRODID:-//ChamberMaster//Event Calendar 2.0//EN
METHOD:PUBLISH
X-PUBLISHED-TTL:P3D
REFRESH-INTERVAL:P3D
CALSCALE:GREGORIAN
BEGIN:VEVENT
DTSTART:20091111T163000Z
DTEND:20091111T180000Z
X-MICROSOFT-CDO-ALLDAYEVENT:FALSE
SUMMARY:Women in Business
DESCRIPTION:Women in Business -Annual Women of the Year- Gwen Hill will be honored Women of the Year. Ronda Rich will be the Speaker
X-ALT-DESC;FMTTYPE=text/html:<div>Women in Business -</div><div>Annual Women of the Year- Gwen Hill will be honored Women of the Year.</div><div>&nbsp\;</div><div>Ronda Rich will be the Speaker</div>
LOCATION:The Georiga ClubNoonTickets are $25.00
UID:e.363.3011
SEQUENCE:3
DTSTAMP:20260425T135606Z
URL:https://barrowcm.365dtm.com/events/details/women-in-business-11-11-2009-3011
END:VEVENT

END:VCALENDAR
