BEGIN:VCALENDAR
VERSION:2.0
PRODID:-//ChamberMaster//Event Calendar 2.0//EN
METHOD:PUBLISH
X-PUBLISHED-TTL:P3D
REFRESH-INTERVAL:P3D
CALSCALE:GREGORIAN
BEGIN:VEVENT
DTSTART:20091209T163000Z
DTEND:20091209T180000Z
X-MICROSOFT-CDO-ALLDAYEVENT:FALSE
SUMMARY:Women in Business
DESCRIPTION:Women in BusinessSpeaker: Joan C Curtis will be our guest speaker for Woman in Business\,Dr. Joan Curtis is a nationally known communications coach.  She has over 20 years experience as a trainer and educator. She has taught communication skills and presentation skills to leadership groups throughout the country. With a doctorate in Adult Education and a Master's in Journalism\, she has a strong knowledge of what it takes to communicate successfully.She is known as an energetic speaker whose knowledge spans strategic interviewing\, dealing with sticky situations\, developing powerful presentations\, business etiquette and networking\, high performance coaching\, skills for speaking with confidence\, image making\, conflict resolution\, developing high performance teams\, and facilitation skills Get a free chapter from Joan C. Curtis\, EdD new book\, Managing Sticky Situations at WorkLearn how to Say It Just Right by joining the Total Communications Community.706-369-7614
X-ALT-DESC;FMTTYPE=text/html:<div>Women in Business</div><div>Speaker: Joan C Curtis will be our guest speaker for Woman in&nbsp\;Business\,</div><div><div style="margin: 0in 0in 0pt">Dr. Joan Curtis is a nationally known communications coach. &nbsp\;She has over 20 years experience as a trainer and educator. She has taught communication skills and presentation skills to leadership groups throughout the country.&nbsp\;With a doctorate in Adult Education and a Master's in Journalism\, she has a strong knowledge of what it takes to communicate successfully.</div><div style="margin: 0in 0in 0pt"><span style="color: black">She is known as an energetic speaker whose knowledge spans strategic interviewing\, dealing with sticky situations\, developing powerful presentations\, business etiquette and networking\, high performance coaching\, skills for speaking with confidence\, image making\, conflict resolution\, developing high performance teams\, and facilitation skills</span></div><div style="margin: 0in 0in 0pt">&nbsp\;</div><div style="margin: 0in 0in 0pt">Get a free chapter from Joan C. Curtis\, EdD new book\,<span style="font-size: 11pt"> <a title="blocked::http://www.managingstickysituationatwork.com/" href="http://www.managingstickysituationatwork.com/">Managing Sticky Situations at Work</a></span></div><div style="margin: 0in 0in 0pt">Learn how to Say It Just Right by joining the<span style="font-size: 11pt"> <a title="blocked::http://www.totalcommunicationscoach.com/" href="http://www.totalcommunicationscoach.com/">Total Communications Community</a>.</span></div><div style="margin: 0in 0in 0pt">706-369-7614</div><div style="margin: 0in 0in 0pt">&nbsp\;</div><div style="margin: 0in 0in 0pt">&nbsp\;</div></div>
LOCATION:Hostess House299 Cedar Creek RoadWinder\,30680
UID:e.363.3012
SEQUENCE:3
DTSTAMP:20260425T122411Z
URL:https://barrowcm.365dtm.com/events/details/women-in-business-12-09-2009-3012
END:VEVENT

END:VCALENDAR
