BEGIN:VCALENDAR
VERSION:2.0
PRODID:-//ChamberMaster//Event Calendar 2.0//EN
METHOD:PUBLISH
X-PUBLISHED-TTL:P3D
REFRESH-INTERVAL:P3D
CALSCALE:GREGORIAN
BEGIN:VEVENT
DTSTART;VALUE=DATE:20111214
DTEND;VALUE=DATE:20111215
TRANSP:TRANSPARENT
X-MICROSOFT-CDO-ALLDAYEVENT:TRUE
SUMMARY:Women in Business
DESCRIPTION:Women in Business\n\n	Open Networking Building Relationships and\n\n	White Elephant Exchange
X-ALT-DESC;FMTTYPE=text/html:<p>\n	Women in Business<br />\n	Open Networking Building Relationships and</p>\n<p>\n	White Elephant Exchange</p>\n
LOCATION:Hostess House 299 Cedar Creek Rd\, Winder
UID:e.363.3695
SEQUENCE:3
DTSTAMP:20260424T013952Z
URL:https://barrowcm.365dtm.com/events/details/women-in-business-12-14-2011-3695
END:VEVENT

END:VCALENDAR
