BEGIN:VCALENDAR
VERSION:2.0
PRODID:-//ChamberMaster//Event Calendar 2.0//EN
METHOD:PUBLISH
X-PUBLISHED-TTL:P3D
REFRESH-INTERVAL:P3D
CALSCALE:GREGORIAN
BEGIN:VEVENT
DTSTART:20141216T163000Z
DTEND:20141216T180000Z
X-MICROSOFT-CDO-ALLDAYEVENT:FALSE
SUMMARY:Women in Business
DESCRIPTION:Women in Business Christmas party\n\nWhite Elephant Buy a Scarf and wrap it.  ($10.00 Value)
X-ALT-DESC;FMTTYPE=text/html:Women in Business Christmas party<br />\nWhite Elephant Buy a Scarf and wrap it.&nbsp\; ($10.00 Value)
LOCATION:The Hostess House
UID:e.363.5473
SEQUENCE:3
DTSTAMP:20260421T153729Z
URL:https://barrowcm.365dtm.com/events/details/women-in-business-12-16-2014-5473
END:VEVENT

END:VCALENDAR
