BEGIN:VCALENDAR
VERSION:2.0
PRODID:-//ChamberMaster//Event Calendar 2.0//EN
METHOD:PUBLISH
X-PUBLISHED-TTL:P3D
REFRESH-INTERVAL:P3D
CALSCALE:GREGORIAN
BEGIN:VEVENT
DTSTART:20121218T163000Z
DTEND:20121218T180000Z
X-MICROSOFT-CDO-ALLDAYEVENT:FALSE
SUMMARY:Women In Business
DESCRIPTION:Woman in Business Xmas Party\n\nOrnament Exchange
X-ALT-DESC;FMTTYPE=text/html:Woman in Business Xmas Party<br />\nOrnament Exchange
LOCATION:Hostess House 299 Cedar Creek Rd. Winder
UID:e.363.4793
SEQUENCE:3
DTSTAMP:20260423T071557Z
URL:https://barrowcm.365dtm.com/events/details/women-in-business-12-18-2012-4793
END:VEVENT

END:VCALENDAR
